BEGIN:VCALENDAR
VERSION:2.0
PRODID:-//Caboolture Sports Dog Obedience Club - ECPv6.10.0//NONSGML v1.0//EN
CALSCALE:GREGORIAN
METHOD:PUBLISH
X-ORIGINAL-URL:https://caboolturedogobedience.com.au
X-WR-CALDESC:Events for Caboolture Sports Dog Obedience Club
REFRESH-INTERVAL;VALUE=DURATION:PT1H
X-Robots-Tag:noindex
X-PUBLISHED-TTL:PT1H
BEGIN:VTIMEZONE
TZID:Australia/Brisbane
BEGIN:STANDARD
TZOFFSETFROM:+1000
TZOFFSETTO:+1000
TZNAME:AEST
DTSTART:20260101T000000
END:STANDARD
END:VTIMEZONE
BEGIN:VEVENT
DTSTART;VALUE=DATE:20260210
DTEND;VALUE=DATE:20260211
DTSTAMP:20260420T030852
CREATED:20250330T225623Z
LAST-MODIFIED:20260129T234546Z
UID:5687-1770681600-1770767999@caboolturedogobedience.com.au
SUMMARY:February Monthly General Meeting - 7.30pm
DESCRIPTION:https://caboolturedogobedience.com.au/wp-content/uploads/2026/01/Agenda-Monthly-General-Meeting-February-2026.pdfFebruary Monthly General Meeting at the clubhouse at 7.30pm – Agenda items must be provided 14 days prior. \nClick here to view Agenda when available \n 
URL:https://caboolturedogobedience.com.au/event/april-monthly-general-meeting/
CATEGORIES:Events,Meetings
END:VEVENT
BEGIN:VEVENT
DTSTART;VALUE=DATE:20260223
DTEND;VALUE=DATE:20260224
DTSTAMP:20260420T030852
CREATED:20260114T010933Z
LAST-MODIFIED:20260114T010933Z
UID:6033-1771804800-1771891199@caboolturedogobedience.com.au
SUMMARY:February Graduation for classes 2\, 3 and 4
DESCRIPTION:February Graduation for classes 2\, 3 and 4.
URL:https://caboolturedogobedience.com.au/event/february-graduation-for-classes-2-3-and-4/
END:VEVENT
BEGIN:VEVENT
DTSTART;VALUE=DATE:20260302
DTEND;VALUE=DATE:20260303
DTSTAMP:20260420T030852
CREATED:20250331T001818Z
LAST-MODIFIED:20260113T223614Z
UID:5749-1772409600-1772495999@caboolturedogobedience.com.au
SUMMARY:March Basic Obedience Course - 8 weeks
DESCRIPTION:March Basic Obedience Course – 8 weeks
URL:https://caboolturedogobedience.com.au/event/april-basic-obedience-course-nightime-intake/
LOCATION:Caboolture Sports Dog Obedience Club\, 34 Devine Court\, Morayfield\, QLD\, 4506\, Australia
CATEGORIES:Events
END:VEVENT
BEGIN:VEVENT
DTSTART;VALUE=DATE:20260307
DTEND;VALUE=DATE:20260308
DTSTAMP:20260420T030852
CREATED:20260114T011155Z
LAST-MODIFIED:20260114T011155Z
UID:6034-1772841600-1772927999@caboolturedogobedience.com.au
SUMMARY:March Double Rally and Double Obedience Trial
DESCRIPTION:March Double Rally and Double Obedience Trial \nRally Starts at 9am \nObedience Starts 2pm \nHelp needed
URL:https://caboolturedogobedience.com.au/event/march-double-rally-and-double-obedience-trial/
END:VEVENT
BEGIN:VEVENT
DTSTART;VALUE=DATE:20260310
DTEND;VALUE=DATE:20260311
DTSTAMP:20260420T030852
CREATED:20250331T003602Z
LAST-MODIFIED:20260113T224608Z
UID:5772-1773100800-1773187199@caboolturedogobedience.com.au
SUMMARY:March Monthly General Meeting - 7.30pm
DESCRIPTION:March Monthly General Meeting at the clubhouse at 7.30pm – Agenda items must be provided 14 days prior. \nClick here to view Agenda when available \n 
URL:https://caboolturedogobedience.com.au/event/may-monthly-general-meeting/
CATEGORIES:Events,Meetings
END:VEVENT
BEGIN:VEVENT
DTSTART;VALUE=DATE:20260330
DTEND;VALUE=DATE:20260331
DTSTAMP:20260420T030852
CREATED:20250330T235321Z
LAST-MODIFIED:20260113T223810Z
UID:5719-1774828800-1774915199@caboolturedogobedience.com.au
SUMMARY:March Graduation for classes 2\, 3 and 4
DESCRIPTION:March Graduation for classes 2\, 3 and 4.
URL:https://caboolturedogobedience.com.au/event/april-graduation-for-classes-2-3-and-4/
END:VEVENT
BEGIN:VEVENT
DTSTART;VALUE=DATE:20260406
DTEND;VALUE=DATE:20260407
DTSTAMP:20260420T030852
CREATED:20250331T002049Z
LAST-MODIFIED:20260113T224227Z
UID:5752-1775433600-1775519999@caboolturedogobedience.com.au
SUMMARY:April Basic Obedience Course - 8 weeks
DESCRIPTION:April Basic Obedience Course – 8 weeks
URL:https://caboolturedogobedience.com.au/event/may-basic-obedience-course-nightime-intake/
LOCATION:Caboolture Sports Dog Obedience Club\, 34 Devine Court\, Morayfield\, QLD\, 4506\, Australia
CATEGORIES:Events
END:VEVENT
BEGIN:VEVENT
DTSTART;VALUE=DATE:20260414
DTEND;VALUE=DATE:20260415
DTSTAMP:20260420T030852
CREATED:20250331T003701Z
LAST-MODIFIED:20260113T224355Z
UID:5774-1776124800-1776211199@caboolturedogobedience.com.au
SUMMARY:April Monthly General Meeting - 7.30pm
DESCRIPTION:April Monthly General Meeting at the clubhouse at 7.30pm – Agenda items must be provided 14 days prior. \nClick here to view Agenda when available \n 
URL:https://caboolturedogobedience.com.au/event/june-monthly-general-meeting/
CATEGORIES:Events,Meetings
END:VEVENT
BEGIN:VEVENT
DTSTART;VALUE=DATE:20260427
DTEND;VALUE=DATE:20260428
DTSTAMP:20260420T030852
CREATED:20250330T235612Z
LAST-MODIFIED:20260113T224537Z
UID:5723-1777248000-1777334399@caboolturedogobedience.com.au
SUMMARY:April Graduation for classes 2\, 3 and 4
DESCRIPTION:April Graduation for classes 2\, 3 and 4.
URL:https://caboolturedogobedience.com.au/event/may-graduation-for-classes-2-3-and-4/
END:VEVENT
BEGIN:VEVENT
DTSTART;VALUE=DATE:20260504
DTEND;VALUE=DATE:20260505
DTSTAMP:20260420T030852
CREATED:20260114T011436Z
LAST-MODIFIED:20260114T011436Z
UID:6035-1777852800-1777939199@caboolturedogobedience.com.au
SUMMARY:May Basic Obedience Course - 8 weeks
DESCRIPTION:May Basic Obedience Course – 8 weeks
URL:https://caboolturedogobedience.com.au/event/may-basic-obedience-course-8-weeks/
LOCATION:Caboolture Sports Dog Obedience Club\, 34 Devine Court\, Morayfield\, QLD\, 4506\, Australia
CATEGORIES:Events
END:VEVENT
BEGIN:VEVENT
DTSTART;VALUE=DATE:20260505
DTEND;VALUE=DATE:20260506
DTSTAMP:20260420T030852
CREATED:20250331T003304Z
LAST-MODIFIED:20260114T004514Z
UID:5770-1777939200-1778025599@caboolturedogobedience.com.au
SUMMARY:May Scentwork Foundation Course 8 weeks
DESCRIPTION:May Scentwork Foundation Course – 8 weeks
URL:https://caboolturedogobedience.com.au/event/august-scent-work-foundation-course/
LOCATION:Caboolture Sports Dog Obedience Club\, 34 Devine Court\, Morayfield\, QLD\, 4506\, Australia
CATEGORIES:Events
END:VEVENT
BEGIN:VEVENT
DTSTART;VALUE=DATE:20260507
DTEND;VALUE=DATE:20260508
DTSTAMP:20260420T030852
CREATED:20260114T011613Z
LAST-MODIFIED:20260114T011613Z
UID:6036-1778112000-1778198399@caboolturedogobedience.com.au
SUMMARY:May Agility Foundation Course 8 weeks
DESCRIPTION:May Agility Foundation Course – 8 weeks
URL:https://caboolturedogobedience.com.au/event/may-agility-foundation-course-8-weeks/
LOCATION:Caboolture Sports Dog Obedience Club\, 34 Devine Court\, Morayfield\, QLD\, 4506\, Australia
CATEGORIES:Events
END:VEVENT
BEGIN:VEVENT
DTSTART;VALUE=DATE:20260522
DTEND;VALUE=DATE:20260525
DTSTAMP:20260420T030852
CREATED:20250330T230655Z
LAST-MODIFIED:20260113T224840Z
UID:5694-1779408000-1779667199@caboolturedogobedience.com.au
SUMMARY:May Track & Search Trial 2026
DESCRIPTION:May Track & Search Trial 2026 \nHelp needed – early starts – fun and lots of learning
URL:https://caboolturedogobedience.com.au/event/track-search-trial-2025/
END:VEVENT
BEGIN:VEVENT
DTSTART;VALUE=DATE:20260525
DTEND;VALUE=DATE:20260526
DTSTAMP:20260420T030852
CREATED:20250330T235500Z
LAST-MODIFIED:20260114T005922Z
UID:5721-1779667200-1779753599@caboolturedogobedience.com.au
SUMMARY:May Graduation for classes 2\, 3 and 4
DESCRIPTION:May Graduation for classes 2\, 3 and 4
URL:https://caboolturedogobedience.com.au/event/may-graduation-for-daytime-class/
END:VEVENT
BEGIN:VEVENT
DTSTART;VALUE=DATE:20260601
DTEND;VALUE=DATE:20260602
DTSTAMP:20260420T030852
CREATED:20250331T002157Z
LAST-MODIFIED:20260114T005813Z
UID:5754-1780272000-1780358399@caboolturedogobedience.com.au
SUMMARY:June Basic Obedience Course - 8 weeks
DESCRIPTION:June Basic Obedience Course – 8 weeks
URL:https://caboolturedogobedience.com.au/event/june-basic-obedience-course-nightime-intake/
LOCATION:Caboolture Sports Dog Obedience Club\, 34 Devine Court\, Morayfield\, QLD\, 4506\, Australia
CATEGORIES:Events
END:VEVENT
BEGIN:VEVENT
DTSTART;VALUE=DATE:20260602
DTEND;VALUE=DATE:20260603
DTSTAMP:20260420T030852
CREATED:20250402T015640Z
LAST-MODIFIED:20260114T005708Z
UID:5884-1780358400-1780444799@caboolturedogobedience.com.au
SUMMARY:June Scent Work Trial
DESCRIPTION:June Scent Work Trial – Tuesday night – vetting at 4pm Trial starts at 5pm.
URL:https://caboolturedogobedience.com.au/event/june-scent-work-trial/
END:VEVENT
BEGIN:VEVENT
DTSTART;VALUE=DATE:20260619
DTEND;VALUE=DATE:20260622
DTSTAMP:20260420T030852
CREATED:20250330T231109Z
LAST-MODIFIED:20260114T005553Z
UID:5696-1781827200-1782086399@caboolturedogobedience.com.au
SUMMARY:June Tracking Trial - Tansey - 2026
DESCRIPTION:June Tracking Trial – Tansey – 2026 \nHelp needed –  early starts – nice weekend away
URL:https://caboolturedogobedience.com.au/event/tracking-trial-2025/
END:VEVENT
BEGIN:VEVENT
DTSTART;VALUE=DATE:20260629
DTEND;VALUE=DATE:20260630
DTSTAMP:20260420T030852
CREATED:20250330T235711Z
LAST-MODIFIED:20260114T005438Z
UID:5725-1782691200-1782777599@caboolturedogobedience.com.au
SUMMARY:June Graduation for classes 2\, 3 and 4
DESCRIPTION:June Graduation for classes 2\, 3 and 4.
URL:https://caboolturedogobedience.com.au/event/june-graduation-for-classes-2-3-and-4/
END:VEVENT
BEGIN:VEVENT
DTSTART;VALUE=DATE:20260704
DTEND;VALUE=DATE:20260705
DTSTAMP:20260420T030852
CREATED:20250330T233334Z
LAST-MODIFIED:20260114T004943Z
UID:5704-1783123200-1783209599@caboolturedogobedience.com.au
SUMMARY:July Double Rally and Double Obedience Trial
DESCRIPTION:July Double Rally and Double Obedience Trial \nRally Starts at 9am \nObedience Starts 2pm \nHelp needed
URL:https://caboolturedogobedience.com.au/event/july-double-rally-and-double-obedience-trial/
END:VEVENT
BEGIN:VEVENT
DTSTART;VALUE=DATE:20260706
DTEND;VALUE=DATE:20260707
DTSTAMP:20260420T030852
CREATED:20250331T002301Z
LAST-MODIFIED:20260114T005241Z
UID:5756-1783296000-1783382399@caboolturedogobedience.com.au
SUMMARY:July Basic Obedience Course - 8 weeks
DESCRIPTION:July Basic Obedience Course – 8 weeks
URL:https://caboolturedogobedience.com.au/event/july-basic-obedience-course-nightime-intake/
LOCATION:Caboolture Sports Dog Obedience Club\, 34 Devine Court\, Morayfield\, QLD\, 4506\, Australia
CATEGORIES:Events
END:VEVENT
BEGIN:VEVENT
DTSTART;VALUE=DATE:20260714
DTEND;VALUE=DATE:20260715
DTSTAMP:20260420T030852
CREATED:20250331T003822Z
LAST-MODIFIED:20260114T005143Z
UID:5776-1783987200-1784073599@caboolturedogobedience.com.au
SUMMARY:July Monthly General Meeting 7.30pm
DESCRIPTION:July Monthly General Meeting at the clubhouse at 7.30pm – Agenda items must be provided 14 days prior. \nClick here to view Agenda when available \n 
URL:https://caboolturedogobedience.com.au/event/july-monthly-general-meeting/
CATEGORIES:Events,Meetings
END:VEVENT
BEGIN:VEVENT
DTSTART;VALUE=DATE:20260718
DTEND;VALUE=DATE:20260719
DTSTAMP:20260420T030852
CREATED:20250330T233213Z
LAST-MODIFIED:20260114T005350Z
UID:5702-1784332800-1784419199@caboolturedogobedience.com.au
SUMMARY:July Trick Trial x 2
DESCRIPTION:July Trick Trial x 2 \n8am start – Help needed
URL:https://caboolturedogobedience.com.au/event/trick-trial/
END:VEVENT
BEGIN:VEVENT
DTSTART;VALUE=DATE:20260727
DTEND;VALUE=DATE:20260728
DTSTAMP:20260420T030852
CREATED:20260114T011853Z
LAST-MODIFIED:20260114T011853Z
UID:6037-1785110400-1785196799@caboolturedogobedience.com.au
SUMMARY:July Graduation for classes 2\, 3 and 4
DESCRIPTION:July Graduation for classes 2\, 3 and 4.
URL:https://caboolturedogobedience.com.au/event/july-graduation-for-classes-2-3-and-4/
END:VEVENT
BEGIN:VEVENT
DTSTART;VALUE=DATE:20260801
DTEND;VALUE=DATE:20260802
DTSTAMP:20260420T030852
CREATED:20250330T233735Z
LAST-MODIFIED:20260114T004830Z
UID:5707-1785542400-1785628799@caboolturedogobedience.com.au
SUMMARY:August Scent Work Trial
DESCRIPTION:August Scent Work Trial \nVenue to be advised – Help needed
URL:https://caboolturedogobedience.com.au/event/august-scent-work-trial/
END:VEVENT
BEGIN:VEVENT
DTSTART;VALUE=DATE:20260803
DTEND;VALUE=DATE:20260804
DTSTAMP:20260420T030852
CREATED:20250331T002344Z
LAST-MODIFIED:20260114T004621Z
UID:5758-1785715200-1785801599@caboolturedogobedience.com.au
SUMMARY:August Basic Obedience Course - 8 weeks
DESCRIPTION:August Basic Obedience Course – 8 weeks
URL:https://caboolturedogobedience.com.au/event/august-basic-obedience-course-nightime-intake/
LOCATION:Caboolture Sports Dog Obedience Club\, 34 Devine Court\, Morayfield\, QLD\, 4506\, Australia
CATEGORIES:Events
END:VEVENT
BEGIN:VEVENT
DTSTART;VALUE=DATE:20260804
DTEND;VALUE=DATE:20260805
DTSTAMP:20260420T030852
CREATED:20260114T012013Z
LAST-MODIFIED:20260114T012013Z
UID:6038-1785801600-1785887999@caboolturedogobedience.com.au
SUMMARY:August Scentwork Foundation Course - 8 weeks
DESCRIPTION:August Scentwork Foundation Course – 8 weeks
URL:https://caboolturedogobedience.com.au/event/august-scentwork-foundation-course-8-weeks/
LOCATION:Caboolture Sports Dog Obedience Club\, 34 Devine Court\, Morayfield\, QLD\, 4506\, Australia
CATEGORIES:Events
END:VEVENT
BEGIN:VEVENT
DTSTART;VALUE=DATE:20260806
DTEND;VALUE=DATE:20260807
DTSTAMP:20260420T030852
CREATED:20250331T002842Z
LAST-MODIFIED:20260114T004326Z
UID:5766-1785974400-1786060799@caboolturedogobedience.com.au
SUMMARY:August Agility Foundation Course - 8 weeks
DESCRIPTION:August Agility Foundation Course – 8 weeks
URL:https://caboolturedogobedience.com.au/event/august-agility-foundation-course/
LOCATION:Caboolture Sports Dog Obedience Club\, 34 Devine Court\, Morayfield\, QLD\, 4506\, Australia
CATEGORIES:Events
END:VEVENT
BEGIN:VEVENT
DTSTART;VALUE=DATE:20260811
DTEND;VALUE=DATE:20260812
DTSTAMP:20260420T030852
CREATED:20250331T003912Z
LAST-MODIFIED:20260114T004216Z
UID:5778-1786406400-1786492799@caboolturedogobedience.com.au
SUMMARY:August Monthly General Meeting 7.30pm
DESCRIPTION:August Monthly General Meeting at the clubhouse at 7.30pm – Agenda items must be provided 14 days prior. \nClick here to view Agenda when available \n 
URL:https://caboolturedogobedience.com.au/event/august-monthly-general-meeting/
CATEGORIES:Events,Meetings
END:VEVENT
BEGIN:VEVENT
DTSTART;VALUE=DATE:20260831
DTEND;VALUE=DATE:20260901
DTSTAMP:20260420T030852
CREATED:20250330T235911Z
LAST-MODIFIED:20260114T004052Z
UID:5729-1788134400-1788220799@caboolturedogobedience.com.au
SUMMARY:August Graduation for classes 2\, 3 and 4
DESCRIPTION:August Graduation for classes 2\, 3 and 4.
URL:https://caboolturedogobedience.com.au/event/august-graduation-for-classes-2-3-and-4/
END:VEVENT
BEGIN:VEVENT
DTSTART;VALUE=DATE:20260907
DTEND;VALUE=DATE:20260908
DTSTAMP:20260420T030852
CREATED:20250331T002438Z
LAST-MODIFIED:20260114T003626Z
UID:5760-1788739200-1788825599@caboolturedogobedience.com.au
SUMMARY:September Basic Obedience Course - 8 weeks
DESCRIPTION:September Basic Obedience Course – 8 weeks
URL:https://caboolturedogobedience.com.au/event/september-basic-obedience-course-nightime-intake/
LOCATION:Caboolture Sports Dog Obedience Club\, 34 Devine Court\, Morayfield\, QLD\, 4506\, Australia
CATEGORIES:Events
END:VEVENT
END:VCALENDAR