BEGIN:VCALENDAR
VERSION:2.0
PRODID:-//Caboolture Sports Dog Obedience Club - ECPv6.10.0//NONSGML v1.0//EN
CALSCALE:GREGORIAN
METHOD:PUBLISH
X-WR-CALNAME:Caboolture Sports Dog Obedience Club
X-ORIGINAL-URL:https://caboolturedogobedience.com.au
X-WR-CALDESC:Events for Caboolture Sports Dog Obedience Club
REFRESH-INTERVAL;VALUE=DURATION:PT1H
X-Robots-Tag:noindex
X-PUBLISHED-TTL:PT1H
BEGIN:VTIMEZONE
TZID:Australia/Brisbane
BEGIN:STANDARD
TZOFFSETFROM:+1000
TZOFFSETTO:+1000
TZNAME:AEST
DTSTART:20260101T000000
END:STANDARD
END:VTIMEZONE
BEGIN:VEVENT
DTSTART;VALUE=DATE:20261114
DTEND;VALUE=DATE:20261115
DTSTAMP:20260425T230912
CREATED:20250330T234148Z
LAST-MODIFIED:20260114T000838Z
UID:5713-1794614400-1794700799@caboolturedogobedience.com.au
SUMMARY:November Scent Work Trial
DESCRIPTION:November Scent Work Trial \nVenue to be advised – Help needed
URL:https://caboolturedogobedience.com.au/event/november-scent-work-trial/
END:VEVENT
BEGIN:VEVENT
DTSTART;VALUE=DATE:20261130
DTEND;VALUE=DATE:20261201
DTSTAMP:20260425T230912
CREATED:20260114T012228Z
LAST-MODIFIED:20260114T012228Z
UID:6039-1795996800-1796083199@caboolturedogobedience.com.au
SUMMARY:November Graduation for classes 2\, 3 and 4
DESCRIPTION:November Graduation for classes 2\, 3 and 4.
URL:https://caboolturedogobedience.com.au/event/november-graduation-for-classes-2-3-and-4/
END:VEVENT
BEGIN:VEVENT
DTSTART;VALUE=DATE:20261207
DTEND;VALUE=DATE:20261208
DTSTAMP:20260425T230912
CREATED:20260114T012419Z
LAST-MODIFIED:20260114T012419Z
UID:6040-1796601600-1796687999@caboolturedogobedience.com.au
SUMMARY:Club Christmas Party and Fun night
DESCRIPTION:Club Christmas Party and Fun night – 6pm start \nDetails will be updated when the date gets closer
URL:https://caboolturedogobedience.com.au/event/club-christmas-party-and-fun-night/
END:VEVENT
END:VCALENDAR